BEGIN:VCALENDAR
VERSION:2.0
PRODID:-// - ECPv6.2.2//NONSGML v1.0//EN
CALSCALE:GREGORIAN
METHOD:PUBLISH
X-ORIGINAL-URL:https://mmciom.edu.np
X-WR-CALDESC:Events for 
REFRESH-INTERVAL;VALUE=DURATION:PT1H
X-Robots-Tag:noindex
X-PUBLISHED-TTL:PT1H
BEGIN:VTIMEZONE
TZID:UTC
BEGIN:STANDARD
TZOFFSETFROM:+0000
TZOFFSETTO:+0000
TZNAME:UTC
DTSTART:20230101T000000
END:STANDARD
END:VTIMEZONE
BEGIN:VEVENT
DTSTART;TZID=UTC:20230226T121500
DTEND;TZID=UTC:20230226T170000
DTSTAMP:20260423T042114
CREATED:20230222T040920Z
LAST-MODIFIED:20230223T043340Z
UID:13340-1677413700-1677430800@mmciom.edu.np
SUMMARY:Revised: Condolence Program
DESCRIPTION:  \nThis is to inform all the faculties and staffs of Maharajgunj Medical Campus that condolence program of late Prof. Dr. Mathura Prasad Shrestha is going to be conducted on 14th Falgun 2079 at 12:15 pm in Room no. 9 of Yellow Building. \n 
URL:https://mmciom.edu.np/event/condolence-program/
LOCATION:Yellow Building\, Maharajgunj\, Kathmandu\, Bagmati\, Nepal
END:VEVENT
END:VCALENDAR